BEGIN:VCALENDAR
VERSION:2.0
PRODID:-//vtw Verband Thüringer Wohnungs- und Immobilienwirtschaft e.V.//DE
BEGIN:VEVENT
UID:36065@vtw.de
DTSTAMP:20260422T115129Z
DTSTART;VALUE=DATE:20260603
SUMMARY:AG Kommunale Wohnungsunternehmen
LOCATION:
URL:https://www.vtw.de/vtw_veranstaltungen/ag-kommunale-wohnungsunternehmen-18/
END:VEVENT
END:VCALENDAR
