BEGIN:VCALENDAR
VERSION:2.0
PRODID:-//vtw Verband Thüringer Wohnungs- und Immobilienwirtschaft e.V.//DE
BEGIN:VEVENT
UID:36066@vtw.de
DTSTAMP:20260422T114618Z
DTSTART;VALUE=DATE:20261105
SUMMARY:AG Kommunale Wohnungsunternehmen
LOCATION:
URL:https://www.vtw.de/vtw_veranstaltungen/ag-kommunale-wohnungsunternehmen-19/
END:VEVENT
END:VCALENDAR
