BEGIN:VCALENDAR
VERSION:2.0
PRODID:-//vtw Verband Thüringer Wohnungs- und Immobilienwirtschaft e.V.//DE
BEGIN:VEVENT
UID:36241@vtw.de
DTSTAMP:20260423T090114Z
DTSTART;VALUE=DATE:20260625
SUMMARY:FA Betriebswirtschaft/Finanzierung
LOCATION:Wohnungswirtschaftliches Dienstleistungszentrum, Regierungsstraße 58, 99084 Erfurt, Konferenzraum EG
URL:https://www.vtw.de/vtw_veranstaltungen/fa-betriebswirtschaft-finanzierung-12/
END:VEVENT
END:VCALENDAR
