BEGIN:VCALENDAR
VERSION:2.0
PRODID:-//vtw Verband Thüringer Wohnungs- und Immobilienwirtschaft e.V.//DE
BEGIN:VEVENT
UID:36242@vtw.de
DTSTAMP:20260421T090348Z
DTSTART;VALUE=DATE:20261126
SUMMARY:FA Betriebswirtschaft/Finanzierung
LOCATION:Wohnungswirtschaftliches Dienstleistungszentrum, Regierungsstraße 58, 99084 Erfurt, Konferenzraum EG
URL:https://www.vtw.de/vtw_veranstaltungen/fa-betriebswirtschaft-finanzierung-14/
END:VEVENT
END:VCALENDAR
