BEGIN:VCALENDAR
VERSION:2.0
PRODID:-//vtw Verband Thüringer Wohnungs- und Immobilienwirtschaft e.V.//DE
BEGIN:VEVENT
UID:36261@vtw.de
DTSTAMP:20260422T121208Z
DTSTART;VALUE=DATE:20260819
SUMMARY:FA Kunden-/Bestandsmanagement
LOCATION:
URL:https://www.vtw.de/vtw_veranstaltungen/fa-kunden-bestandsmanagement-18/
END:VEVENT
END:VCALENDAR
