BEGIN:VCALENDAR
VERSION:2.0
PRODID:-//vtw Verband Thüringer Wohnungs- und Immobilienwirtschaft e.V.//DE
BEGIN:VEVENT
UID:36263@vtw.de
DTSTAMP:20260421T083838Z
DTSTART;VALUE=DATE:20260624
SUMMARY:FA Bauwesen/ Technik/ Energie
LOCATION:Altenburg
URL:https://www.vtw.de/vtw_veranstaltungen/fa-bauwesen-technik-energie-3/
END:VEVENT
END:VCALENDAR
