BEGIN:VCALENDAR
VERSION:2.0
PRODID:-//vtw Verband Thüringer Wohnungs- und Immobilienwirtschaft e.V.//DE
BEGIN:VEVENT
UID:36264@vtw.de
DTSTAMP:20260422T114931Z
DTSTART;VALUE=DATE:20260820
SUMMARY:WDZ-Sommerfest
LOCATION:
URL:https://www.vtw.de/vtw_veranstaltungen/wdz-sommerfest/
END:VEVENT
END:VCALENDAR
