BEGIN:VCALENDAR
VERSION:2.0
PRODID:-//vtw Verband Thüringer Wohnungs- und Immobilienwirtschaft e.V.//DE
BEGIN:VEVENT
UID:36269@vtw.de
DTSTAMP:20260423T085252Z
DTSTART;VALUE=DATE:20261209
SUMMARY:FA Bauwesen/ Technik/ Energie
LOCATION:Wohnungswirtschaftliches Dienstleistungszentrum, Regierungsstraße 58, 99084 Erfurt, Konferenzraum EG
URL:https://www.vtw.de/vtw_veranstaltungen/fa-bauwesen-technik-energie-4/
END:VEVENT
END:VCALENDAR
